BEGIN:VCALENDAR
VERSION:2.0
PRODID:-//New York Jewish Agenda - ECPv6.15.17.1//NONSGML v1.0//EN
CALSCALE:GREGORIAN
METHOD:PUBLISH
X-WR-CALNAME:New York Jewish Agenda
X-ORIGINAL-URL:https://nyja.org
X-WR-CALDESC:Events for New York Jewish Agenda
REFRESH-INTERVAL;VALUE=DURATION:PT1H
X-Robots-Tag:noindex
X-PUBLISHED-TTL:PT1H
BEGIN:VTIMEZONE
TZID:America/New_York
BEGIN:DAYLIGHT
TZOFFSETFROM:-0500
TZOFFSETTO:-0400
TZNAME:EDT
DTSTART:20240310T070000
END:DAYLIGHT
BEGIN:STANDARD
TZOFFSETFROM:-0400
TZOFFSETTO:-0500
TZNAME:EST
DTSTART:20241103T060000
END:STANDARD
BEGIN:DAYLIGHT
TZOFFSETFROM:-0500
TZOFFSETTO:-0400
TZNAME:EDT
DTSTART:20250309T070000
END:DAYLIGHT
BEGIN:STANDARD
TZOFFSETFROM:-0400
TZOFFSETTO:-0500
TZNAME:EST
DTSTART:20251102T060000
END:STANDARD
BEGIN:DAYLIGHT
TZOFFSETFROM:-0500
TZOFFSETTO:-0400
TZNAME:EDT
DTSTART:20260308T070000
END:DAYLIGHT
BEGIN:STANDARD
TZOFFSETFROM:-0400
TZOFFSETTO:-0500
TZNAME:EST
DTSTART:20261101T060000
END:STANDARD
END:VTIMEZONE
BEGIN:VEVENT
DTSTART;TZID=America/New_York:20250513T090000
DTEND;TZID=America/New_York:20250513T100000
DTSTAMP:20260420T045555
CREATED:20250509T170332Z
LAST-MODIFIED:20250509T170348Z
UID:9499-1747126800-1747130400@nyja.org
SUMMARY:In-person: ACRI briefing on The Protection of Human Rights in Israel in the New Anti-Democratic Age
DESCRIPTION:Register by May 10th to join the Association for Civil Rights in Israel (ACRI) for an in-person briefing: The Protection of Human Rights in Israel in the New Anti-Democratic Age with Rabbi Noa Sattath\, moderated by NYJA Co-founder and Board Member Rabbi Sharon Kleinbaum.
URL:https://nyja.org/event/in-person-acri-briefing-on-the-protection-of-human-rights-in-israel-in-the-new-anti-democratic-age/
LOCATION:NY
END:VEVENT
BEGIN:VEVENT
DTSTART;TZID=America/New_York:20250515T130000
DTEND;TZID=America/New_York:20250515T140000
DTSTAMP:20260420T045555
CREATED:20250509T164135Z
LAST-MODIFIED:20250509T164135Z
UID:9453-1747314000-1747317600@nyja.org
SUMMARY:Virtual: Joint Nakba Remembrance Ceremony
DESCRIPTION:On May 15\, 2025\, join the Joint Nakba Remembrance Ceremony\, hosted by Combatants for Peace and co-sponsored by NYJA and many other interfaith groups. This year’s theme—“Holding onto Home\, Holding onto Hope”—reflects on the enduring cycle of displacement and loss that Palestinians have experienced since 1948. Yet the ceremony also looks ahead. It affirms a vision of peace rooted in dignity and justice—a vision in which Palestinians are not defined by displacement\, but by their right to live freely and securely. Holding onto home is about more than geography; it is a commitment to reconciliation—not only for individuals\, but for the land itself. It is a vision of collective liberation\, where the oppressed are free from domination and the oppressors are freed from the systems that bind them to violence. It is a call to weave peace into the collective identity of all who call this place home. \n\nRegister to join us virtually: https://bit.ly/nakba2025  
URL:https://nyja.org/event/virtual-joint-nakba-remembrance-ceremony/
LOCATION:NY
END:VEVENT
END:VCALENDAR