BEGIN:VCALENDAR
VERSION:2.0
PRODID:-//New York Jewish Agenda - ECPv6.15.17.1//NONSGML v1.0//EN
CALSCALE:GREGORIAN
METHOD:PUBLISH
X-ORIGINAL-URL:https://nyja.org
X-WR-CALDESC:Events for New York Jewish Agenda
REFRESH-INTERVAL;VALUE=DURATION:PT1H
X-Robots-Tag:noindex
X-PUBLISHED-TTL:PT1H
BEGIN:VTIMEZONE
TZID:America/New_York
BEGIN:DAYLIGHT
TZOFFSETFROM:-0500
TZOFFSETTO:-0400
TZNAME:EDT
DTSTART:20240310T070000
END:DAYLIGHT
BEGIN:STANDARD
TZOFFSETFROM:-0400
TZOFFSETTO:-0500
TZNAME:EST
DTSTART:20241103T060000
END:STANDARD
BEGIN:DAYLIGHT
TZOFFSETFROM:-0500
TZOFFSETTO:-0400
TZNAME:EDT
DTSTART:20250309T070000
END:DAYLIGHT
BEGIN:STANDARD
TZOFFSETFROM:-0400
TZOFFSETTO:-0500
TZNAME:EST
DTSTART:20251102T060000
END:STANDARD
BEGIN:DAYLIGHT
TZOFFSETFROM:-0500
TZOFFSETTO:-0400
TZNAME:EDT
DTSTART:20260308T070000
END:DAYLIGHT
BEGIN:STANDARD
TZOFFSETFROM:-0400
TZOFFSETTO:-0500
TZNAME:EST
DTSTART:20261101T060000
END:STANDARD
END:VTIMEZONE
BEGIN:VEVENT
DTSTART;TZID=America/New_York:20250305T160000
DTEND;TZID=America/New_York:20250305T170000
DTSTAMP:20260420T075306
CREATED:20250227T201408Z
LAST-MODIFIED:20250227T201408Z
UID:9421-1741190400-1741194000@nyja.org
SUMMARY:NYJA Webinar on the 2025 World Zionist Congress elections & the Hatikvah Slate
DESCRIPTION:On March 10th\, the World Zionist Congress (WZC) elections open\, directly impacting the flow of $5 billion across the Jewish world over the next five years. NYJA is endorsing the Hatikvah Slate (you can find the entire platform\, slate members\, and more information here and take the pledge to vote Hatikvah here)\, which represents a broad coalition of liberal and progressive American Jews who are working to ensure that Israel lives up to its highest values–for all of its inhabitants and neighbors. \nOn March 5th from 4:00pm – 5:00pm\, NYJA will be holding a webinar for our community to learn more about what the WZC is\, why and how we should get involved\, and why vote for the Hatikvah Slate–which includes NYJA Board Chair Nancy Kaufman\, Programming and Political Manager Jacob Tolson\, and other NYJA leaders and allies. \nOur webinar will feature our Board Chair Nancy Kaufman; Nomi Colton-Max\, Co-Chair of the Hatikvah Slate and New Jewish Narrative (NJN)\, and Vice President of Programming of the American Zionist Movement; and Jonathan Taubes\, Youth Outreach Lead and Slate member. \nPlease register to join at this link!
URL:https://nyja.org/event/nyja-webinar-wzc-hatikvah/
LOCATION:NY
ORGANIZER;CN="New York Jewish Agenda":MAILTO:info@nyja.org
END:VEVENT
BEGIN:VEVENT
DTSTART;TZID=America/New_York:20250325T180000
DTEND;TZID=America/New_York:20250325T193000
DTSTAMP:20260420T075306
CREATED:20250310T171535Z
LAST-MODIFIED:20250310T182155Z
UID:9441-1742925600-1742931000@nyja.org
SUMMARY:Film Screening: The Arrivals
DESCRIPTION:Join us for a special screening of The Arrivals\, a documentary that chronicles the experiences of asylum seekers transported to New York City from the Texas border in 2022. The film spotlights the tireless efforts of three volunteer-led organizations\, headed by Adama Bah\, Ilze Thielmann\, and Power Malu\, who provide essential support—including food\, clothing\, legal assistance\, and a sense of security—to individuals and families striving for a better life. Through their stories\, The Arrivals underscores the profound impact of human kindness and reminds us of our shared immigrant heritage and interconnected humanity. \nThe screening will be followed by a Q+A with director Andrea DeGeorge Garbarini and volunteer group leaders Ilze Thielmann and Power Malu. Moderated by Ruth Messinger. \nPresented in partnership with the Marlene Meyerson JCC\, Artists Athletes Activists\, D3 Open Arms\, The Interfaith Center of New York\, Mañana Otro Dia\, SAJ\, the Shul of New York\, St. Paul & St. Andrew United Methodist Church\, The Synagogue Coalition on the Refugee and Immigration Crisis\, and Team TLC NYC. \nDate: Tue\, Mar 25\, 6pm\, $5\nLocation: Marlene Meyerson JCC Manhattan\n334 Amsterdam Ave at 76th St. \nMore information and tickets here
URL:https://nyja.org/event/film-screening-the-arrivals/
LOCATION:The Samuel Priest Rose Building\, 334 Amsterdam Ave\, New York\, NY\, 10023\, United States
END:VEVENT
END:VCALENDAR