BEGIN:VCALENDAR
VERSION:2.0
PRODID:-//New York Jewish Agenda - ECPv6.15.17.1//NONSGML v1.0//EN
CALSCALE:GREGORIAN
METHOD:PUBLISH
X-WR-CALNAME:New York Jewish Agenda
X-ORIGINAL-URL:https://nyja.org
X-WR-CALDESC:Events for New York Jewish Agenda
REFRESH-INTERVAL;VALUE=DURATION:PT1H
X-Robots-Tag:noindex
X-PUBLISHED-TTL:PT1H
BEGIN:VTIMEZONE
TZID:America/New_York
BEGIN:DAYLIGHT
TZOFFSETFROM:-0500
TZOFFSETTO:-0400
TZNAME:EDT
DTSTART:20240310T070000
END:DAYLIGHT
BEGIN:STANDARD
TZOFFSETFROM:-0400
TZOFFSETTO:-0500
TZNAME:EST
DTSTART:20241103T060000
END:STANDARD
BEGIN:DAYLIGHT
TZOFFSETFROM:-0500
TZOFFSETTO:-0400
TZNAME:EDT
DTSTART:20250309T070000
END:DAYLIGHT
BEGIN:STANDARD
TZOFFSETFROM:-0400
TZOFFSETTO:-0500
TZNAME:EST
DTSTART:20251102T060000
END:STANDARD
BEGIN:DAYLIGHT
TZOFFSETFROM:-0500
TZOFFSETTO:-0400
TZNAME:EDT
DTSTART:20260308T070000
END:DAYLIGHT
BEGIN:STANDARD
TZOFFSETFROM:-0400
TZOFFSETTO:-0500
TZNAME:EST
DTSTART:20261101T060000
END:STANDARD
END:VTIMEZONE
BEGIN:VEVENT
DTSTART;TZID=America/New_York:20250123T190000
DTEND;TZID=America/New_York:20250123T213000
DTSTAMP:20260420T110907
CREATED:20250106T201409Z
LAST-MODIFIED:20250106T201409Z
UID:9334-1737658800-1737667800@nyja.org
SUMMARY:Film Screening: Special Preview of 'There Is Another Way'
DESCRIPTION:Join us at Judson Memorial Church on January 23rd from 7:00-9:30pm for a special preview screening of There Is Another Way\, followed by a meaningful conversation with filmmakers and Combatants for Peace members centered on collective liberation. \nThere Is Another Way\, a powerful new documentary\, tells the story of a group of visionaries – Combatants for Peace – who refuse to surrender to violence and injustice\, and in doing so show that another path is possible – for them\, for us\, and for all humanity. As we are all faced with essential questions about who we are\, will we choose collective liberation\, where the needs\, rights\, and safety of all are prioritized – in which our humanity comes first\, knowing that no one is free until everyone is free. \nCombatants for Peace is an extraordinary bi-national group of former enemy combatants – Israelis and Palestinians – working together during an ongoing armed conflict. Confronted with the devastation and escalating violence of October 7th and the war in Gaza\, the very core of the movement faces great challenges in showing that there is another way. The first question they must move past relates to their own beliefs…is this possible? \nYou can buy tickets here: https://www.tickettailor.com/events/thereisanotherway/1511277
URL:https://nyja.org/event/film-screening-special-preview-of-there-is-another-way/
LOCATION:Judson Memorial Church\, 55 Washington Square S\,\, New York\, NY\, 10012\, United States
END:VEVENT
END:VCALENDAR