BEGIN:VCALENDAR
VERSION:2.0
PRODID:-//New York Jewish Agenda - ECPv6.15.17.1//NONSGML v1.0//EN
CALSCALE:GREGORIAN
METHOD:PUBLISH
X-WR-CALNAME:New York Jewish Agenda
X-ORIGINAL-URL:https://nyja.org
X-WR-CALDESC:Events for New York Jewish Agenda
REFRESH-INTERVAL;VALUE=DURATION:PT1H
X-Robots-Tag:noindex
X-PUBLISHED-TTL:PT1H
BEGIN:VTIMEZONE
TZID:America/New_York
BEGIN:DAYLIGHT
TZOFFSETFROM:-0500
TZOFFSETTO:-0400
TZNAME:EDT
DTSTART:20230312T070000
END:DAYLIGHT
BEGIN:STANDARD
TZOFFSETFROM:-0400
TZOFFSETTO:-0500
TZNAME:EST
DTSTART:20231105T060000
END:STANDARD
BEGIN:DAYLIGHT
TZOFFSETFROM:-0500
TZOFFSETTO:-0400
TZNAME:EDT
DTSTART:20240310T070000
END:DAYLIGHT
BEGIN:STANDARD
TZOFFSETFROM:-0400
TZOFFSETTO:-0500
TZNAME:EST
DTSTART:20241103T060000
END:STANDARD
BEGIN:DAYLIGHT
TZOFFSETFROM:-0500
TZOFFSETTO:-0400
TZNAME:EDT
DTSTART:20250309T070000
END:DAYLIGHT
BEGIN:STANDARD
TZOFFSETFROM:-0400
TZOFFSETTO:-0500
TZNAME:EST
DTSTART:20251102T060000
END:STANDARD
END:VTIMEZONE
BEGIN:VEVENT
DTSTART;TZID=America/New_York:20240905T180000
DTEND;TZID=America/New_York:20240905T193000
DTSTAMP:20260420T092401
CREATED:20240822T224933Z
LAST-MODIFIED:20240822T225136Z
UID:9044-1725559200-1725564600@nyja.org
SUMMARY:Election volunteering
DESCRIPTION:In Person. In an era where our democracy is facing unprecedented threats and division\, the Jewish community’s commitment to social justice and civic engagement is more crucial than ever. You can take action by writing postcards for the Center for Common Ground’s Reclaim Our Vote campaign\, a grassroots initiative that focuses on increasing voter turnout. We will also discuss other opportunities for your own civic engagement. \nRegistration required. Pizza dinner provided.
URL:https://nyja.org/event/election-volunteering/
LOCATION:The Samuel Priest Rose Building\, 334 Amsterdam Ave\, New York\, NY\, 10023\, United States
ATTACH;FMTTYPE=image/jpeg:https://nyja.org/wp-content/uploads/2024/08/Vote-Buttons-NYJA.jpg
ORGANIZER;CN="Marlene Meyerson JCC Manhattan":MAILTO:info@mmjccm.org
END:VEVENT
END:VCALENDAR