BEGIN:VCALENDAR
VERSION:2.0
PRODID:-//New York Jewish Agenda - ECPv6.15.17.1//NONSGML v1.0//EN
CALSCALE:GREGORIAN
METHOD:PUBLISH
X-ORIGINAL-URL:https://nyja.org
X-WR-CALDESC:Events for New York Jewish Agenda
REFRESH-INTERVAL;VALUE=DURATION:PT1H
X-Robots-Tag:noindex
X-PUBLISHED-TTL:PT1H
BEGIN:VTIMEZONE
TZID:America/New_York
BEGIN:DAYLIGHT
TZOFFSETFROM:-0500
TZOFFSETTO:-0400
TZNAME:EDT
DTSTART:20230312T070000
END:DAYLIGHT
BEGIN:STANDARD
TZOFFSETFROM:-0400
TZOFFSETTO:-0500
TZNAME:EST
DTSTART:20231105T060000
END:STANDARD
BEGIN:DAYLIGHT
TZOFFSETFROM:-0500
TZOFFSETTO:-0400
TZNAME:EDT
DTSTART:20240310T070000
END:DAYLIGHT
BEGIN:STANDARD
TZOFFSETFROM:-0400
TZOFFSETTO:-0500
TZNAME:EST
DTSTART:20241103T060000
END:STANDARD
BEGIN:DAYLIGHT
TZOFFSETFROM:-0500
TZOFFSETTO:-0400
TZNAME:EDT
DTSTART:20250309T070000
END:DAYLIGHT
BEGIN:STANDARD
TZOFFSETFROM:-0400
TZOFFSETTO:-0500
TZNAME:EST
DTSTART:20251102T060000
END:STANDARD
BEGIN:DAYLIGHT
TZOFFSETFROM:-0500
TZOFFSETTO:-0400
TZNAME:EDT
DTSTART:20260308T070000
END:DAYLIGHT
BEGIN:STANDARD
TZOFFSETFROM:-0400
TZOFFSETTO:-0500
TZNAME:EST
DTSTART:20261101T060000
END:STANDARD
END:VTIMEZONE
BEGIN:VEVENT
DTSTART;TZID=America/New_York:20241015T130000
DTEND;TZID=America/New_York:20241015T150000
DTSTAMP:20260420T174607
CREATED:20240924T192649Z
LAST-MODIFIED:20240924T192649Z
UID:9258-1728997200-1729004400@nyja.org
SUMMARY:Virtual: Phone-banking with Dayenu - calling Georgia to turn out climate voters
DESCRIPTION:Do you have the Chutzpah to organize for a just and livable future? \nJoin Dayenu and the Environmental Voter Project to turn out climate voters in Georgia. \nThis shift is co-sponsored by T’ruah\, NY Jewish Agenda\, Greenfaith\, Hebrew Union College Dayenu Circle\, and Temple Beth-El of Providence\, RI! \nWe’ll ground ourselves in Jewish wisdom\, go over the scripts we’ll be using\, then get to work calling voters. \nIf you’ve already been trained by Dayenu or EVP\, you can jump right into calling. If this is your first time phonebanking\, no worries; we’ll train you before you start calling. All you need to participate is a phone (landline or cell)\, web-enabled computer or tablet\, and yourself. \nAutomatic live captioning will be provided in Zoom. \nRegister here: https://secure.everyaction.com/RMQjJJl-8EmJ7IHYjvOR_A2?group=302
URL:https://nyja.org/event/virtual-phone-banking-with-dayenu-calling-georgia-to-turn-out-climate-voters/
LOCATION:NY
END:VEVENT
BEGIN:VEVENT
DTSTART;TZID=America/New_York:20241015T180000
DTEND;TZID=America/New_York:20241015T193000
DTSTAMP:20260420T174607
CREATED:20240822T230417Z
LAST-MODIFIED:20240822T230417Z
UID:9060-1729015200-1729020600@nyja.org
SUMMARY:Election volunteering
DESCRIPTION:In Person. In an era where our democracy is facing unprecedented threats and division\, the Jewish community’s commitment to social justice and civic engagement is more crucial than ever. You can take action by writing postcards for the Center for Common Ground’s Reclaim Our Vote campaign\, a grassroots initiative that focuses on increasing voter turnout. We will also discuss other opportunities for your own civic engagement. \nRegistration required. Pizza dinner provided.
URL:https://nyja.org/event/election-volunteering-10/
LOCATION:The Samuel Priest Rose Building\, 334 Amsterdam Ave\, New York\, NY\, 10023\, United States
ATTACH;FMTTYPE=image/jpeg:https://nyja.org/wp-content/uploads/2024/08/Vote-Buttons-NYJA.jpg
ORGANIZER;CN="Marlene Meyerson JCC Manhattan":MAILTO:info@mmjccm.org
END:VEVENT
BEGIN:VEVENT
DTSTART;TZID=America/New_York:20241029T180000
DTEND;TZID=America/New_York:20241029T193000
DTSTAMP:20260420T174607
CREATED:20240924T211818Z
LAST-MODIFIED:20241022T184748Z
UID:9266-1730224800-1730230200@nyja.org
SUMMARY:Virtual: Text Banking to Get Out the Vote
DESCRIPTION:Our final opportunity to participate in our Beyond the Ballot series\, cohosted by the Marlene Meyerson JCC Manhattan and B’nai Jeshurun: Sign Up Here –  In partnership with The Worker’s Circle and Vote Riders\, we will send text messages informing voters about Voter ID laws in their state and help them get their voices heard. We will also discuss other opportunities for your own civic engagement. There will also be music and trivia!  This event is hybrid; you can register for the virtual text banking or in-person session at the Marlene Meyerson JCC. Laptops required for in-person participants. In-person will cost $10 and include pizza.  \n 
URL:https://nyja.org/event/in-person-text-banking-to-get-out-the-vote/
LOCATION:The Samuel Priest Rose Building\, 334 Amsterdam Ave\, New York\, NY\, 10023\, United States
END:VEVENT
BEGIN:VEVENT
DTSTART;TZID=America/New_York:20241102T183000
DTEND;TZID=America/New_York:20241102T200000
DTSTAMP:20260420T174607
CREATED:20241022T185151Z
LAST-MODIFIED:20241022T185151Z
UID:9282-1730572200-1730577600@nyja.org
SUMMARY:In-person: Havdalah for Democracy
DESCRIPTION:Bid farewell to Shabbat and prepare for the week ahead at this special family-friendly pre-election Havdalah service in the JCC lobby. The program will include a song circle\, meaningful discussions on our role in the democratic process\, and the opportunity to create a beautiful craft. Perfect for all ages\, this gathering is a great way to connect\, learn together as a community and envision how we can help create a brighter\, more just future! This event is free and does not require registration. 
URL:https://nyja.org/event/in-person-havdalah-for-democracy/
LOCATION:The Samuel Priest Rose Building\, 334 Amsterdam Ave\, New York\, NY\, 10023\, United States
END:VEVENT
BEGIN:VEVENT
DTSTART;TZID=America/New_York:20241104T150000
DTEND;TZID=America/New_York:20241104T170000
DTSTAMP:20260420T174607
CREATED:20240924T192859Z
LAST-MODIFIED:20240924T192859Z
UID:9260-1730732400-1730739600@nyja.org
SUMMARY:Virtual: Erev Election Day Calling with Dayenu
DESCRIPTION:Do you have the Chutzpah to organize for a just and livable future? \nJoin Dayenu and the Environmental Voter Project to turn out climate voters. \nWe’ll ground ourselves in Jewish wisdom\, go over the scripts we’ll be using\, then get to work calling voters. \nIf you’ve already been trained by Dayenu or EVP\, you can jump right into calling. If this is your first time phonebanking\, no worries; we’ll train you before you start calling. All you need to participate is a phone (landline or cell)\, web-enabled computer or tablet\, and yourself. \nAutomatic live captioning will be provided in Zoom. \nRegister here: https://secure.everyaction.com/RMQjJJl-8EmJ7IHYjvOR_A2?group=302
URL:https://nyja.org/event/virtual-erev-election-day-calling-with-dayenu/
LOCATION:NY
END:VEVENT
BEGIN:VEVENT
DTSTART;TZID=America/New_York:20241112T163000
DTEND;TZID=America/New_York:20241112T200000
DTSTAMP:20260420T174607
CREATED:20241105T164437Z
LAST-MODIFIED:20241111T193201Z
UID:9293-1731429000-1731441600@nyja.org
SUMMARY:Standing Together: A Post-Election Interfaith Gathering
DESCRIPTION:Join leaders from across the city for an evening of interfaith reflection\, prayer\, and community as we come together after this emotional and divisive election cycle. Faith leaders representing diverse traditions will provide a welcoming space for unity\, connection\, and affirmation of our commitment to interfaith community-building. All are invited to gather on Tuesday\, November 12\, at 4:30 PM at Union Theological Seminary (121st and Broadway) where we will march starting at 5:00pm to St. Paul & St. Andrew United Methodist Church on 86th and West End for words and song. A livestream will be available at this link as well. \nOrganizations supporting this event include: B’nai Jeshurun\, the Interfaith Center of New York\, Marlene Meyerson JCC Manhattan\, and Union Theological Seminary.
URL:https://nyja.org/event/standing-together-a-post-election-interfaith-gathering/
LOCATION:St. Paul & St. Andrew United Methodist Church\, 263 W 86th St\, New York\, NY 10024\, New York\, NY\, 10024\, United States
END:VEVENT
BEGIN:VEVENT
DTSTART;TZID=America/New_York:20250123T190000
DTEND;TZID=America/New_York:20250123T213000
DTSTAMP:20260420T174607
CREATED:20250106T201409Z
LAST-MODIFIED:20250106T201409Z
UID:9334-1737658800-1737667800@nyja.org
SUMMARY:Film Screening: Special Preview of 'There Is Another Way'
DESCRIPTION:Join us at Judson Memorial Church on January 23rd from 7:00-9:30pm for a special preview screening of There Is Another Way\, followed by a meaningful conversation with filmmakers and Combatants for Peace members centered on collective liberation. \nThere Is Another Way\, a powerful new documentary\, tells the story of a group of visionaries – Combatants for Peace – who refuse to surrender to violence and injustice\, and in doing so show that another path is possible – for them\, for us\, and for all humanity. As we are all faced with essential questions about who we are\, will we choose collective liberation\, where the needs\, rights\, and safety of all are prioritized – in which our humanity comes first\, knowing that no one is free until everyone is free. \nCombatants for Peace is an extraordinary bi-national group of former enemy combatants – Israelis and Palestinians – working together during an ongoing armed conflict. Confronted with the devastation and escalating violence of October 7th and the war in Gaza\, the very core of the movement faces great challenges in showing that there is another way. The first question they must move past relates to their own beliefs…is this possible? \nYou can buy tickets here: https://www.tickettailor.com/events/thereisanotherway/1511277
URL:https://nyja.org/event/film-screening-special-preview-of-there-is-another-way/
LOCATION:Judson Memorial Church\, 55 Washington Square S\,\, New York\, NY\, 10012\, United States
END:VEVENT
BEGIN:VEVENT
DTSTART;TZID=America/New_York:20250305T160000
DTEND;TZID=America/New_York:20250305T170000
DTSTAMP:20260420T174607
CREATED:20250227T201408Z
LAST-MODIFIED:20250227T201408Z
UID:9421-1741190400-1741194000@nyja.org
SUMMARY:NYJA Webinar on the 2025 World Zionist Congress elections & the Hatikvah Slate
DESCRIPTION:On March 10th\, the World Zionist Congress (WZC) elections open\, directly impacting the flow of $5 billion across the Jewish world over the next five years. NYJA is endorsing the Hatikvah Slate (you can find the entire platform\, slate members\, and more information here and take the pledge to vote Hatikvah here)\, which represents a broad coalition of liberal and progressive American Jews who are working to ensure that Israel lives up to its highest values–for all of its inhabitants and neighbors. \nOn March 5th from 4:00pm – 5:00pm\, NYJA will be holding a webinar for our community to learn more about what the WZC is\, why and how we should get involved\, and why vote for the Hatikvah Slate–which includes NYJA Board Chair Nancy Kaufman\, Programming and Political Manager Jacob Tolson\, and other NYJA leaders and allies. \nOur webinar will feature our Board Chair Nancy Kaufman; Nomi Colton-Max\, Co-Chair of the Hatikvah Slate and New Jewish Narrative (NJN)\, and Vice President of Programming of the American Zionist Movement; and Jonathan Taubes\, Youth Outreach Lead and Slate member. \nPlease register to join at this link!
URL:https://nyja.org/event/nyja-webinar-wzc-hatikvah/
LOCATION:NY
ORGANIZER;CN="New York Jewish Agenda":MAILTO:info@nyja.org
END:VEVENT
BEGIN:VEVENT
DTSTART;TZID=America/New_York:20250325T180000
DTEND;TZID=America/New_York:20250325T193000
DTSTAMP:20260420T174607
CREATED:20250310T171535Z
LAST-MODIFIED:20250310T182155Z
UID:9441-1742925600-1742931000@nyja.org
SUMMARY:Film Screening: The Arrivals
DESCRIPTION:Join us for a special screening of The Arrivals\, a documentary that chronicles the experiences of asylum seekers transported to New York City from the Texas border in 2022. The film spotlights the tireless efforts of three volunteer-led organizations\, headed by Adama Bah\, Ilze Thielmann\, and Power Malu\, who provide essential support—including food\, clothing\, legal assistance\, and a sense of security—to individuals and families striving for a better life. Through their stories\, The Arrivals underscores the profound impact of human kindness and reminds us of our shared immigrant heritage and interconnected humanity. \nThe screening will be followed by a Q+A with director Andrea DeGeorge Garbarini and volunteer group leaders Ilze Thielmann and Power Malu. Moderated by Ruth Messinger. \nPresented in partnership with the Marlene Meyerson JCC\, Artists Athletes Activists\, D3 Open Arms\, The Interfaith Center of New York\, Mañana Otro Dia\, SAJ\, the Shul of New York\, St. Paul & St. Andrew United Methodist Church\, The Synagogue Coalition on the Refugee and Immigration Crisis\, and Team TLC NYC. \nDate: Tue\, Mar 25\, 6pm\, $5\nLocation: Marlene Meyerson JCC Manhattan\n334 Amsterdam Ave at 76th St. \nMore information and tickets here
URL:https://nyja.org/event/film-screening-the-arrivals/
LOCATION:The Samuel Priest Rose Building\, 334 Amsterdam Ave\, New York\, NY\, 10023\, United States
END:VEVENT
BEGIN:VEVENT
DTSTART;TZID=America/New_York:20250513T090000
DTEND;TZID=America/New_York:20250513T100000
DTSTAMP:20260420T174607
CREATED:20250509T170332Z
LAST-MODIFIED:20250509T170348Z
UID:9499-1747126800-1747130400@nyja.org
SUMMARY:In-person: ACRI briefing on The Protection of Human Rights in Israel in the New Anti-Democratic Age
DESCRIPTION:Register by May 10th to join the Association for Civil Rights in Israel (ACRI) for an in-person briefing: The Protection of Human Rights in Israel in the New Anti-Democratic Age with Rabbi Noa Sattath\, moderated by NYJA Co-founder and Board Member Rabbi Sharon Kleinbaum.
URL:https://nyja.org/event/in-person-acri-briefing-on-the-protection-of-human-rights-in-israel-in-the-new-anti-democratic-age/
LOCATION:NY
END:VEVENT
BEGIN:VEVENT
DTSTART;TZID=America/New_York:20250515T130000
DTEND;TZID=America/New_York:20250515T140000
DTSTAMP:20260420T174607
CREATED:20250509T164135Z
LAST-MODIFIED:20250509T164135Z
UID:9453-1747314000-1747317600@nyja.org
SUMMARY:Virtual: Joint Nakba Remembrance Ceremony
DESCRIPTION:On May 15\, 2025\, join the Joint Nakba Remembrance Ceremony\, hosted by Combatants for Peace and co-sponsored by NYJA and many other interfaith groups. This year’s theme—“Holding onto Home\, Holding onto Hope”—reflects on the enduring cycle of displacement and loss that Palestinians have experienced since 1948. Yet the ceremony also looks ahead. It affirms a vision of peace rooted in dignity and justice—a vision in which Palestinians are not defined by displacement\, but by their right to live freely and securely. Holding onto home is about more than geography; it is a commitment to reconciliation—not only for individuals\, but for the land itself. It is a vision of collective liberation\, where the oppressed are free from domination and the oppressors are freed from the systems that bind them to violence. It is a call to weave peace into the collective identity of all who call this place home. \n\nRegister to join us virtually: https://bit.ly/nakba2025  
URL:https://nyja.org/event/virtual-joint-nakba-remembrance-ceremony/
LOCATION:NY
END:VEVENT
BEGIN:VEVENT
DTSTART;TZID=America/New_York:20250601T230000
DTEND;TZID=America/New_York:20250602T003000
DTSTAMP:20260420T174607
CREATED:20250509T170608Z
LAST-MODIFIED:20250509T171029Z
UID:9502-1748818800-1748824200@nyja.org
SUMMARY:In-person: Tikkun Leil session at the Marlene Meyerson JCC
DESCRIPTION:Stay tuned for more details about NYJA’s session at this year’s Shavuot Tikkun Leil at the Marlene Meyerson JCC Manhattan!
URL:https://nyja.org/event/in-person-tikkun-leil-session-at-the-marlene-meyerson-jcc/
LOCATION:The Samuel Priest Rose Building\, 334 Amsterdam Ave\, New York\, NY\, 10023\, United States
END:VEVENT
BEGIN:VEVENT
DTSTART;TZID=America/New_York:20250608T170000
DTEND;TZID=America/New_York:20250608T183000
DTSTAMP:20260420T174607
CREATED:20250509T170956Z
LAST-MODIFIED:20250509T170956Z
UID:9505-1749402000-1749407400@nyja.org
SUMMARY:In-person: Mayoral Candidate Forum for the Jewish Community
DESCRIPTION:Join us for a mayoral candidate forum for the Jewish community at B’nai Jeshurun on Sunday\, June 8th at 5:00pm. This forum offers a critical opportunity for New York City’s Jewish community to hear directly from the 2025 mayoral candidates about the issues that matter most to us and to engage with those vying for our city’s leadership. In this pivotal time\, we seek leaders who will uphold the values of justice\, equity\, compassion\, and opportunity for all New Yorkers. Together\, we raise our voices to ensure that the priorities of the Jewish community are represented in the future of New York. \nThis event is organized by B’nai Jeshurun\, Central Synagogue\, Congregation Beth Elohim\, Marlene Meyerson JCC Manhattan\, and New York Jewish Agenda.
URL:https://nyja.org/event/in-person-mayoral-candidate-forum-for-the-jewish-community/
LOCATION:B’nai Jeshurun\, 270 West 89th Street\, New York\, NY\, 10024\, United States
END:VEVENT
BEGIN:VEVENT
DTSTART;TZID=America/New_York:20251009T130000
DTEND;TZID=America/New_York:20251009T140000
DTSTAMP:20260420T174607
CREATED:20250930T145621Z
LAST-MODIFIED:20250930T145621Z
UID:9769-1760014800-1760018400@nyja.org
SUMMARY:October 7th: Remembering the Victims\, Fighting for the Hostages
DESCRIPTION:Join us for a webinar on October 9th at 1:00pm EST commemorating the second anniversary of October 7th\, hosted by the Progressive Israel Network (PIN). The webinar will feature Haaretz reporter and October 7th survivor Amir Tibon and hostage family member Sharone Lifschitz\, moderated by Ilan Goldenberg. Register here or below.
URL:https://nyja.org/event/october-7th-remembering-the-victims-fighting-for-the-hostages/
LOCATION:NY
END:VEVENT
BEGIN:VEVENT
DTSTART;TZID=America/New_York:20251120T190000
DTEND;TZID=America/New_York:20251120T203000
DTSTAMP:20260420T174607
CREATED:20251112T200734Z
LAST-MODIFIED:20251112T200734Z
UID:9816-1763665200-1763670600@nyja.org
SUMMARY:All Politics is Local: Amy Spitalnick in Conversation with Andrew Silow-Carroll
DESCRIPTION:In-person at B’nai Jeshurun: This year’s mayoral election has had an outsized impact on the Jewish community in New York City and around the country\, shining a spotlight on the place of Judaism and Zionism in local politics. The race raised the already-high levels of tension and polarization in our NYC Jewish community\, and with the election over\, many of us are asking: Where do we go from here? Is a greater sense of unity possible? How can we go about healing the fractures among New York’s Jewish communities? \nAmy Spitalnick\, CEO of the Jewish Council on Public Affairs\, offers reflections and analysis in conversation with Andrew Silow-Carroll\, editor at large of the New York Jewish Week. \nThis event is part of the lecture series At a Crossroads: American Judaism at an Unprecedented Time and is hosted by B’nai Jeshurun. \n\nRegister here at no cost by selecting a non-member ticket and using the promo code ‘NYJA5786’. 
URL:https://nyja.org/event/all-politics-is-local-amy-spitalnick-in-conversation-with-andrew-silow-carroll/
LOCATION:B’nai Jeshurun\, 270 West 89th Street\, New York\, NY\, 10024\, United States
ORGANIZER;CN="B'nai Jeshurun":MAILTO:info@bj.org
END:VEVENT
END:VCALENDAR